Workbook

Sheet 呈贡
A1: 附件1-1
A2: 2025年教育领域上级转移支付教育资金支出情况汇总表
A3: 填报单位（盖章）： | B3: 单位：万元
A4: 填报人及联系方式：李永鹏 67478395
A5: 资金 | B5: 中央级 | F5: 省级 | J5: 市级
B6: 下达金额 | C6: 2025年12月31日支出金额 | D6: 执行率 （=支出金额/下达金额） | E6: 预计年末 支出金额 （万元） | F6: 下达金额 | G6: 2025年12月31日支出金额 | H6: 执行率 （=支出金额/下达金额） | I6: 预计年末 支出金额 （万元） | J6: 下达金额 | K6: 2025年12月31日支出金额 | L6: 执行率 （=支出金额/下达金额） | M6: 预计年末 支出金额 （万元）
A8: 合计 | B8: =SUM(B9:B21) -> 7127.87 | C8: =SUM(C9:C21) -> 4076.96 | D8: =C8/B8 -> 0.57197452 | E8: =SUM(E9:E21) -> 0 | F8: =SUM(F9:F21) -> 1060.65 | G8: =SUM(G9:G21) -> 145.301 | H8: =G8/F8 -> 0.13699241 | I8: =SUM(I9:I21) -> 0 | J8: =SUM(J9:J21) -> 1302.4449 | K8: =SUM(K9:K21) -> 1284.93 | L8: =K8/J8 -> 0.98655229 | M8: =SUM(M9:M21) -> 0
A9: 支持地方高校改革发展资金 | C9: =Sheet1!DK8 | F9: =Sheet1!DM8 | G9: =Sheet1!DN8 | J9: =Sheet1!DP8
A10: 学生资助补助经费 | B10: =明细表!E8 -> 34.4 | C10: =明细表!F8 -> 33.41 | D10: =C10/B10 -> 0.97122093 | E10: =明细表!L8 -> 0 | F10: =明细表!E9+明细表!E10+明细表!E11 -> 2.4 | G10: =明细表!F9+明细表!F10+明细表!F11 -> 1.81 | H10: =G10/F10 -> 0.75416667 | I10: =明细表!L9+明细表!L10+明细表!L11 -> 0 | J10: =明细表!E12+明细表!E13 -> 83.46 | K10: =明细表!F12+明细表!F13 -> 70.81 | L10: =K10/J10 -> 0.84843039 | M10: =明细表!L12+明细表!L13 -> 0
A11: 中小学幼儿园教师国家级培训计划资金 | B11: =Sheet1!AD8 | F11: =Sheet1!AG8 | G11: =Sheet1!AH8 | J11: =Sheet1!AJ8 | K11: =Sheet1!AK8
A12: 城乡义务教育补助经费 | B12: =明细表!E20 -> 2446.12 | C12: =明细表!F20 -> 2225.25 | D12: =C12/B12 -> 0.90970598 | E12: =明细表!L20 -> 0 | F12: =明细表!E21+明细表!E22+明细表!E23 -> 378.66 | G12: =明细表!F21+明细表!F22+明细表!F23 -> 122.641 | H12: =G12/F12 -> 0.32388158 | I12: =明细表!L21+明细表!L22+明细表!L23 -> 0 | J12: =明细表!E24+明细表!E25 -> 94.01 | K12: =明细表!F24+明细表!F25 -> 89.15 | L12: =K12/J12 -> 0.94830337 | M12: =明细表!L24+明细表!L25 -> 0
A13: 现代职业教育质量提升计划资金 | B13: =Sheet1!CX8 | C13: =Sheet1!CY8
A14: 特殊教育补助资金 | B14: =Sheet1!ET8 | C14: =Sheet1!EU8
A15: 义务教育薄弱环节改善与能力提升补助资金 | B15: =明细表!E37 -> 2593.41 | C15: =明细表!F37 -> 300 | D15: =C15/B15 -> 0.11567781 | E15: =明细表!L37 -> 0 | F15: =明细表!E38 -> 655.59 | G15: =明细表!F38 -> 0 | H15: =G15/F15 -> 0 | I15: =明细表!L38 -> 0 | J15: =明细表!E39 -> 943.6 | K15: =明细表!F39 -> 943.6 | L15: =K15/J15 -> 1 | M15: =明细表!L39 -> 0
A16: 支持学前教育发展资金 | B16: =明细表!E40+明细表!E41+明细表!E42+明细表!E43 -> 1654.76 | C16: =明细表!F40+明细表!F41+明细表!F42+明细表!F43 -> 1140.31 | D16: =C16/B16 -> 0.68910899 | E16: =明细表!L40+明细表!L41+明细表!L42+明细表!L43 -> 0 | G16: =Sheet1!V8 | J16: =Sheet1!X8 | K16: =Sheet1!Y8
A17: 改善普通高中学校办学条件补助资金 | B17: =明细表!E44 -> 375 | C17: =明细表!F44 -> 372.99 | D17: =C17/B17 -> 0.99464 | E17: =明细表!L44 -> 0 | F17: =Sheet1!CO8 | G17: =Sheet1!CP8 | J17: =Sheet1!CR8 | K17: =Sheet1!CS8
A18: 基础教育综合奖补 | B18: =Sheet1!DS8 | C18: =Sheet1!DT8 | F18: =Sheet1!DV8 | G18: =Sheet1!DW8 | J18: =Sheet1!DY8 | K18: =Sheet1!DZ8
A19: 教育特殊补助 | B19: =明细表!E51 -> 2 | C19: =明细表!F51 -> 2 | D19: =C19/B19 -> 1 | E19: =明细表!L51 -> 0 | F19: =Sheet1!EK8 | G19: =Sheet1!EL8 | J19: =明细表!E52 -> 136 | K19: =明细表!F52 -> 136 | L19: =K19/J19 -> 1 | M19: =明细表!L52 -> 0
A20: 教师类 | B20: =Sheet1!ET8 | C20: =Sheet1!EU8 | F20: =明细表!E53 -> 24 | G20: =明细表!F53 -> 20.85 | H20: =G20/F20 -> 0.86875 | I20: =明细表!L53 -> 0 | J20: =明细表!E54+明细表!E55 -> 7.12 | K20: =明细表!F54+明细表!F55 -> 7.12 | L20: =K20/J20 -> 1 | M20: =明细表!L54+明细表!L55 -> 0
A21: 教体局其他 | B21: =明细表!E56+明细表!E57 -> 22.18 | C21: =明细表!F56+明细表!F57 -> 3 | D21: =C21/B21 -> 0.13525699 | E21: =明细表!L56+明细表!L57 -> 0 | F21: =Sheet1!FI8 | G21: =Sheet1!FJ8 | J21: =明细表!E58+明细表!E59+明细表!E60+明细表!E61 -> 38.2549 | K21: =明细表!F58+明细表!F59+明细表!F60+明细表!F61 -> 38.25 | L21: =K21/J21 -> 0.99987191 | M21: =明细表!L58+明细表!L59+明细表!L60+明细表!L61 -> 0
A22: 注：汇总表格式请勿改动

Sheet 明细表
A1: 附件1-2
A2: 2025年教育领域上级转移支付教育资金支出情况分析明细表
A3: 填报单位（盖章）： | E3: 单位：万元
A4: 资金 | B4: 下达资金市级文号 | C4: 明细项目名称 | D4: 资金性质 | E4: 下达金额 | F4: 2025年12月31日支出金额 | G4: 执行率 （=支出金额/下达金额） | H4: 未支出合计金额 （=下达金额-支出金额） | I4: 目前未支出具体原因 | J4: 具体情况说明 | K4: 项目是否完成招投标 | L4: 预计年末 支出金额 （万元）
A6: 合计 | C6: - | D6: - | E6: =SUM(E7:E61) -> 9490.9649 | F6: =SUM(F7:F61) -> 5507.191 | G6: =F6/E6 -> 0.58025618 | H6: =E6-F6 -> 3983.7739 | I6: - | J6: - | K6: - | L6: =SUM(L7:L60) -> 0
A7: 支持地方高校改革发展资金
A8: 学生资助补助经费 | B8: 昆财教〔2025〕10号 | C8: 2025年学生资助中央资金 | D8: 中央级 | E8: 34.4 | F8: 33.41 | G8: =F8/E8 -> 0.97122093 | H8: =E8-F8 -> 0.99 | I8: 其他原因 | J8: 按秋季学期实际人数进行补助，剩余部分结转至明年使用
B9: 昆财教〔2025〕21号 | C9: 2024年第二批云南省省级学生资助补助资金 | D9: 省级 | E9: 0.5 | F9: 0.5 | G9: =F9/E9 -> 1 | H9: =E9-F9 -> 0
B10: 昆财教〔2025〕68号 | C10: 2025年第一批学生资助省级资金 | D10: 省级 | E10: 1.72 | F10: 1.15 | G10: =F10/E10 -> 0.66860465 | H10: =E10-F10 -> 0.57 | I10: 其他原因 | J10: 按秋季学期实际人数进行补助，剩余部分结转至明年使用
B11: 昆财教〔2025〕158号 | C11: 2025年普通高中脱贫家庭子女生活费补助省级专项资金 | D11: 省级 | E11: 0.18 | F11: 0.16 | G11: =F11/E11 -> 0.88888889 | H11: =E11-F11 -> 0.02 | I11: 其他原因 | J11: 按秋季学期实际人数进行补助，剩余部分结转至明年使用
B12: 昆财教〔2025〕128号 | C12: 2025年昆明市考入全日制普通高等院校贫困新生政府资助补助资金 | D12: 市级 | E12: 7.25 | F12: 1.75 | G12: =F12/E12 -> 0.24137931 | H12: =E12-F12 -> 5.5 | I12: 其他原因 | J12: 按秋季学期实际人数进行补助，剩余部分结转至明年使用
B13: 昆财教〔2025〕39号 | C13: 2025年第一批学生资助补助经费市级资金 | D13: 市级 | E13: 76.21 | F13: 69.06 | G13: 0.80761055 | H13: =E13-F13 -> 7.15 | I13: 其他原因 | J13: 按秋季学期实际人数进行补助，剩余部分结转至明年使用
A14: 中小学幼儿园教师国家级培训计划资金
A20: 城乡义务教育补助经费 | B20: 昆财教〔2025〕23号 | C20: 2025年第一批城乡义务教育补助经费中央资金 | D20: 中央级 | E20: 2446.12 | F20: 2225.25 | G20: =F20/E20 -> 0.90970598 | H20: =E20-F20 -> 220.87 | I20: 其他原因 | J20: 1.城乡义务教育公用经费（含特殊教育公用经费）按规定时限列支；2.城乡义务教育生活补助经费根据秋季学期实际资助的学生人数发放；3.校舍安全保障资金还未入库（校舍安全保障资金47万元仅支持农村学校，经梳理，呈贡区农村学校只有呈贡区万溪冲小学1所，目前该校已完成排危重建，按合同约定比例付款到位，暂不具备拨付条件，待项目完成审计后据实列支。）
B21: 昆财教〔2025〕45号 | C21: 2025年第一批城乡义务教育补助经费省级资金 | D21: 省级 | E21: 129.2 | F21: 90.99 | G21: =F21/E21 -> 0.70425697 | H21: =E21-F21 -> 38.21 | I21: 学生资助、建设项目等，需按计划发放和合同约定支付 | J21: 1.城乡义务教育公用经费（含特殊教育公用经费）按规定时限列支；2.城乡义务教育生活补助经费根据秋季学期实际资助的学生人数发放。
B22: 昆财教〔2025〕80号 | C22: 2025年城乡义务教育补助经费（学生营养膳食补助）省级资金 | D22: 省级 | E22: 107.59 | F22: 31.651 | G22: =F22/E22 -> 0.29418162 | H22: =E22-F22 -> 75.939 | I22: 学生资助、建设项目等，需按计划发放和合同约定支付 | J22: 1.年内确认能支出31.651万元 2.剩余75.94万元结转至明年进行支出
B23: 昆财教〔2025〕161号 | C23: 2025年城乡义务教育补助经费（学生营养膳食补助）第二批中央和省级资金 | D23: 省级 | E23: 141.87 | F23: 0 | G23: 0 | H23: 141.87 | I23: 其他原因 | J23: 本笔资金据实支付，需到2026年4月完成招标后进行支出
B24: 昆财教〔2025〕102号 | C24: 2025年城乡义务教育公用经费市级资金 | D24: 市级 | E24: 92.59 | F24: 88.44 | G24: =F24/E24 -> 0.95517875 | H24: =E24-F24 -> 4.15 | I24: 其他原因 | J24: 城乡义务教育公用经费（含特殊教育公用经费）按规定时限列支
B25: 昆财教〔2025〕102号 | C25: 2025年城乡义务教育特殊教育公用经费市级资金 | D25: 市级 | E25: 1.42 | F25: 0.71 | G25: =F25/E25 -> 0.5 | H25: =E25-F25 -> 0.71 | I25: 其他原因 | J25: 城乡义务教育公用经费（含特殊教育公用经费）按规定时限列支
A26: 现代职业教育质量提升计划资金
A32: 特殊教育补助资金
A37: 义务教育薄弱环节改善与能力提升补助资金 | B37: 昆财教〔2025〕32号 | C37: 2025年义务教育薄弱环节改善与能力提升中央补助资金 | D37: 中央级 | E37: 2593.41 | F37: 300 | G37: =F37/E37 -> 0.11567781 | H37: =E37-F37 -> 2293.41 | I37: 其他原因 | J37: 已下达呈贡区第六小学300万元，年内进行支出。
B38: 昆财教〔2025〕113号 | C38: 2025年义务教育薄弱环节改善与能力提升省级补助资金 | D38: 省级 | E38: 655.59 | F38: 0 | G38: 0 | H38: 655.59 | I38: 其他原因 | J38: 项目正在调整，年内无支出计划
B39: 昆财教〔2025〕55号 | C39: 2025年义务教育薄弱环节改善与能力提升市级补助资金 | D39: 市级 | E39: 943.6 | F39: 943.6 | G39: =F39/E39 -> 1 | H39: =E39-F39 -> 0 | I39: 其他原因
A40: 支持学前教育发展资金 | B40: 昆财教〔2025〕87号 | C40: 2025年支持学前教育发展中央资金 | D40: 中央级 | E40: 1058.21 | F40: 597.31 | G40: =F40/E40 -> 0.56445318 | H40: =E40-F40 -> 460.9 | I40: 其他原因 | J40: 1.二幼、三幼、高新区清水幼儿园已入库，三幼7月分已支出完毕；漫城都荟幼儿园（新建幼儿园奖补）712.8万元；呈贡区观山苑小区幼儿园（新建幼儿园奖补）245.41万元未入库
B41: 昆财教〔2025〕122号 | C41: 2025年学前教育幼儿资助中央补助资金 | D41: 中央级 | E41: 20.16 | F41: 19.53 | G41: =F41/E41 -> 0.96875 | H41: =E41-F41 -> 0.63 | I41: 其他原因 | J41: 按秋季学期实际人数进行补助
B42: 昆财教〔2025〕121号 | C42: 2025年支持学前教育发展（普惠性民办幼儿园奖补）中央资金 | D42: 中央级 | E42: 153.32 | F42: 132.98 | G42: =F42/E42 -> 0.86733629 | H42: =E42-F42 -> 20.34 | I42: 其他原因 | J42: 有部分幼儿园停办、年检不合格，预计资金有结余
B43: 昆财教〔2025〕173号 | C43: 2025年学前教育免保育教育费中央补助资金 | D43: 中央级 | E43: 423.07 | F43: 390.49 | G43: 0 | H43: =E43-F43 -> 32.58 | I43: 其他原因 | J43: 已入库，正在按人数补助使用中
A44: 改善普通高中学校办学条件补助资金 | B44: 昆财教〔2025〕49号 | C44: 2025年改善普通高中办学条件中央资金 | D44: 中央级 | E44: 375 | F44: 372.99 | G44: =F44/E44 -> 0.99464 | H44: =E44-F44 -> 2.01 | I44: 学生资助、建设项目等，需按计划发放和合同约定支付 | J44: 云大附中呈贡呈贡中学项目已完成待竣工结算后付款
A45: 基础教育综合奖补
A51: 教育特殊补助 | B51: 昆财教〔2025〕35号 | C51: 2025年教育特殊补助资金 | D51: 中央级 | E51: 2 | F51: 2 | G51: =F51/E51 -> 1 | H51: =E51-F51 -> 0 | I51: 其他原因
B52: 昆财教〔2025〕138号 | C52: 下达“阿诗玛班”和“民族班”补助经费 | D52: 市级 | E52: 136 | F52: 136 | G52: =F52/E52 -> 1 | H52: =E52-F52 -> 0 | I52: 其他原因
A53: 教师类 | B53: 昆财教〔2025〕91号 | C53: 2025年教师培训培养建设资金（省管校用和组团是帮扶） | D53: 省级 | E53: 24 | F53: 20.85 | G53: =F53/E53 -> 0.86875 | H53: =E53-F53 -> 3.15 | I53: 其他原因 | J53: 学校按定额标准补助给相关教师，还未确定是否能支出完
B54: 昆财教〔2025〕109号 | C54: 2024年省级银龄市级补助资金 | D54: 市级 | E54: 2.56 | F54: 2.56 | G54: =F54/E54 -> 1 | H54: =E54-F54 -> 0 | I54: 其他原因 | J54: 已支付
B55: 昆财教〔2025〕139号 | C55: 2024年昆明市学科带头人和骨干教师工作经费 | D55: 市级 | E55: 4.56 | F55: 4.56 | G55: 0 | H55: =E55-F55 -> 0 | I55: 其他原因
A56: 教体局其他 | B56: 昆财教〔2025〕40号 | C56: 2025年“国球进社区、国球进公园”体育健身器材配建专项经费 | D56: 中央级 | E56: 3 | F56: 3 | G56: =F56/E56 -> 1 | H56: =E56-F56 -> 0 | I56: 其他原因
B57: 昆财教〔2025〕135号 | C57: 2025年中央支持地方公共文化服务体系建设补助资金（体育口） | D57: 中央级 | E57: 19.18 | F57: 0 | G57: 0 | H57: 19.18 | I57: 其他原因 | J57: 指标刚下达，暂未入库，等待确定由街道还是由教体局入库再确定支出金额
B58: 昆财教〔2025〕37号 | C58: 2025年校（园）长能力提升培训补助经费 | D58: 市级 | E58: 5 | F58: 5 | G58: =F58/E58 -> 1 | H58: =E58-F58 -> 0 | I58: 其他原因
B59: 昆财教〔2025〕93号 | C59: 昆明市2025年六一儿童节走访慰问经费 | D59: 市级 | E59: 3.3 | F59: 3.3 | G59: =F59/E59 -> 1 | H59: =E59-F59 -> 0 | I59: 其他原因
B60: 昆财教〔2025〕110号 | C60: 2024年成人高考等5项报名考试经费 | D60: 市级 | E60: 22.3149 | F60: 22.31 | G60: =F60/E60 -> 0.99978042 | H60: =E60-F60 -> 0.0049 | I60: 其他原因
B61: 昆财教〔2025〕162号 | C61: 2025年事业单位工作人员招聘资金 | D61: 市级 | E61: 7.64 | F61: 7.64 | G61: =F61/E61 -> 1 | H61: =E61-F61 -> 0 | I61: 其他原因
A62: 填报说明：1.本表中，各县市区可根据实际情况增加行，列不允许改动； 2.本表中彩色列的数据，按项目类型汇总填报在《汇总表》中的同色对应项目上。

Sheet Sheet1
A1: 2025年科教文化处资金执行进度情况表（截至6月30日）教育口
A2: 单位：万元
A3: 序号 | B3: 区划名称 | C3: 合计 | F3: 小计 | O3: 1支持学前教育发展资金 | AA3: 2中小学幼儿园教师国家级培训计划资金 | AM3: 3城乡义务教育补助经费 | AY3: 4义务教育薄弱环节改善与能力提升补助资金 | BK3: 5学生资助补助经费 | BW3: 6特殊教育补助资金 | CI3: 7改善普通高中学校办学条件补助资金 | CU3: 8现代职业教育质量提升计划资金 | DG3: 9支持地方高校改革发展资金 | DS3: 10基础教育综合奖补 | EE3: 12教育特殊补助 | EQ3: 13教师类 | FC3: 15教体局其他
C4: 下达数 | D4: 支出数 | E4: 执行率 | F4: 中央级 | I4: 省级 | L4: 市级 | O4: 小计 | R4: 1中央级 | U4: 2省级 | X4: 3市级 | AA4: 小计 | AD4: 1中央级 | AG4: 2省级 | AJ4: 3市级 | AM4: 小计 | AP4: 1中央级 | AS4: 2省级 | AV4: 3市级 | AY4: 小计 | BB4: 1中央级 | BE4: 2省级 | BH4: 3市级 | BK4: 小计 | BN4: 1中央级 | BQ4: 2省级 | BT4: 3市级 | BW4: 小计 | BZ4: 1中央级 | CC4: 2省级 | CF4: 3市级 | CI4: 小计 | CL4: 1中央级 | CO4: 2省级 | CR4: 3市级 | CU4: 小计 | CX4: 1中央级 | DA4: 2省级 | DD4: 3市级 | DG4: 小计 | DJ4: 1中央级 | DM4: 2省级 | DP4: 3市级 | DS4: 小计 | DV4: 1中央级 | DY4: 2省级 | EB4: 3市级 | EE4: 小计 | EH4: 1中央级 | EK4: 2省级 | EN4: 3市级 | EQ4: 小计 | ET4: 1中央级 | EW4: 2省级 | EZ4: 3市级 | FC4: 小计 | FF4: 1中央级 | FI4: 2省级 | FL4: 3市级
F5: 下达数 | G5: 支出数 | H5: 执行率 | I5: 下达数 | J5: 支出数 | K5: 执行率 | L5: 下达数 | M5: 支出数 | N5: 执行率 | O5: 下达数 | P5: 支出数 | Q5: 执行率 | R5: 下达数 | S5: 支出数 | T5: 执行率 | U5: 下达数 | V5: 支出数 | W5: 执行率 | X5: 下达数 | Y5: 支出数 | Z5: 执行率 | AA5: 下达数 | AB5: 支出数 | AC5: 执行率 | AD5: 下达数 | AE5: 支出数 | AF5: 执行率 | AG5: 下达数 | AH5: 支出数 | AI5: 执行率 | AJ5: 下达数 | AK5: 支出数 | AL5: 执行率 | AM5: 下达数 | AN5: 支出数 | AO5: 执行率 | AP5: 下达数 | AQ5: 支出数 | AR5: 执行率 | AS5: 下达数 | AT5: 支出数 | AU5: 执行率 | AV5: 下达数 | AW5: 支出数 | AX5: 执行率 | AY5: 下达数 | AZ5: 支出数 | BA5: 执行率 | BB5: 下达数 | BC5: 支出数 | BD5: 执行率 | BE5: 下达数 | BF5: 支出数 | BG5: 执行率 | BH5: 下达数 | BI5: 支出数 | BJ5: 执行率 | BK5: 下达数 | BL5: 支出数 | BM5: 执行率 | BN5: 下达数 | BO5: 支出数 | BP5: 执行率 | BQ5: 下达数 | BR5: 支出数 | BS5: 执行率 | BT5: 下达数 | BU5: 支出数 | BV5: 执行率 | BW5: 下达数 | BX5: 支出数 | BY5: 执行率 | BZ5: 下达数 | CA5: 支出数 | CB5: 执行率 | CC5: 下达数 | CD5: 支出数 | CE5: 执行率 | CF5: 下达数 | CG5: 支出数 | CH5: 执行率 | CI5: 下达数 | CJ5: 支出数 | CK5: 执行率 | CL5: 下达数 | CM5: 支出数 | CN5: 执行率 | CO5: 下达数 | CP5: 支出数 | CQ5: 执行率 | CR5: 下达数 | CS5: 支出数 | CT5: 执行率 | CU5: 下达数 | CV5: 支出数 | CW5: 执行率 | CX5: 下达数 | CY5: 支出数 | CZ5: 执行率 | DA5: 下达数 | DB5: 支出数 | DC5: 执行率 | DD5: 下达数 | DE5: 支出数 | DF5: 执行率 | DG5: 下达数 | DH5: 支出数 | DI5: 执行率 | DJ5: 下达数 | DK5: 支出数 | DL5: 执行率 | DM5: 下达数 | DN5: 支出数 | DO5: 执行率 | DP5: 下达数 | DQ5: 支出数 | DR5: 执行率 | DS5: 下达数 | DT5: 支出数 | DU5: 执行率 | DV5: 下达数 | DW5: 支出数 | DX5: 执行率 | DY5: 下达数 | DZ5: 支出数 | EA5: 执行率 | EB5: 下达数 | EC5: 支出数 | ED5: 执行率 | EE5: 下达数 | EF5: 支出数 | EG5: 执行率 | EH5: 下达数 | EI5: 支出数 | EJ5: 执行率 | EK5: 下达数 | EL5: 支出数 | EM5: 执行率 | EN5: 下达数 | EO5: 支出数 | EP5: 执行率 | EQ5: 下达数 | ER5: 支出数 | ES5: 执行率 | ET5: 下达数 | EU5: 支出数 | EV5: 执行率 | EW5: 下达数 | EX5: 支出数 | EY5: 执行率 | EZ5: 下达数 | FA5: 支出数 | FB5: 执行率 | FC5: 下达数 | FD5: 支出数 | FE5: 执行率 | FF5: 下达数 | FG5: 支出数 | FH5: 执行率 | FI5: 下达数 | FJ5: 支出数 | FK5: 执行率 | FL5: 下达数 | FM5: 支出数 | FN5: 执行率
B6: 昆明市合计 | C6: 174840.07 | D6: 21452.808 | E6: 0.12269961 | F6: 149411.17 | G6: 20233.714 | H6: 0.13542304 | I6: 13684.311 | J6: 508.21486 | K6: 0.037138505 | L6: 11744.586 | M6: 710.87919 | N6: 0.060528249 | O6: 11572 | Q6: #VALUE! | R6: 11572 | AM6: 89337.24 | AN6: 13910.198 | AO6: 0.15570436 | AP6: 82054.06 | AQ6: 13684.665 | AR6: 0.16677621 | AS6: 7283.18 | AT6: 225.53267 | AU6: 0.030966236 | AY6: 34112.26 | AZ6: 1481.413 | BA6: 0.043427582 | BB6: 30249 | BC6: 1480 | BD6: 0.048927237 | BH6: 3863.26 | BI6: 1.412969 | BJ6: 0.00036574525 | BK6: 23216.01 | BL6: 5132.3571 | BM6: 0.22106973 | BN6: 16107.11 | BO6: 4552.3715 | BP6: 0.28263118 | BQ6: 1179.41 | BR6: 7.1368 | BS6: 0.0060511612 | BT6: 5929.49 | BU6: 572.84883 | BV6: 0.096610134 | BW6: 105 | BY6: #VALUE! | BZ6: 105 | CI6: 4320 | CJ6: 370 | CK6: 0.085648148 | CL6: 4320 | CM6: 370 | CN6: 0.085648148 | CU6: 4844 | CV6: 139.65947 | CW6: 0.028831435 | CX6: 4844 | CY6: 139.65947 | CZ6: 0.028831435 | DS6: 1302 | DT6: 145.43807 | DU6: 0.11170359 | DY6: 1302 | DZ6: 145.43807 | EA6: 0.11170359 | EE6: 118 | EF6: 4.0179 | EG6: 0.03405 | EH6: 118 | EI6: 4.0179 | EJ6: 0.03405 | EQ6: 1372.861 | ER6: 16.54 | ES6: 0.012047833 | ET6: 12 | EW6: 1360.861 | EX6: 16.54 | EY6: 0.01215407 | FC6: 4540.6955 | FD6: 253.18471 | FE6: 0.055759016 | FF6: 30 | FG6: 3 | FH6: 0.1 | FI6: 2558.86 | FJ6: 113.56731 | FK6: 0.044381995 | FL6: 1951.8355 | FM6: 136.6174 | FN6: 0.06999432
A7: 1 | B7: 昆明市本级 | C7: 19121.587 | D7: 3284.3595 | E7: 0.17176187 | F7: 11950.59 | G7: 2777.855 | H7: 0.23244501 | I7: 5131.621 | J7: 297.27039 | K7: 0.057929139 | L7: 2039.3755 | M7: 209.23405 | N7: 0.10259712 | O7: 415 | Q7: #VALUE! | R7: 415 | AM7: 1696.57 | AN7: 202.03155 | AO7: 0.11908236 | AP7: 1631.3 | AQ7: 180.30656 | AR7: 0.11052937 | AS7: 65.27 | AT7: 21.725 | AU7: 0.33284817 | AY7: 3654.91 | AZ7: 1.412969 | BA7: 0.00038659475 | BB7: 3273.1 | BH7: 381.81 | BI7: 1.412969 | BJ7: 0.0037007124 | BK7: 5792.87 | BL7: 2585.0248 | BM7: 0.4462425 | BN7: 4788.19 | BO7: 2453.8711 | BP7: 0.51248407 | BQ7: 760.95 | BT7: 243.73 | BU7: 131.15368 | BV7: 0.53811053 | BW7: 105 | BY7: #VALUE! | BZ7: 105 | CU7: 1712 | CV7: 139.65947 | CW7: 0.081576793 | CX7: 1712 | CY7: 139.65947 | CZ7: 0.081576793 | DS7: 1000 | DT7: 145.43807 | DU7: 0.14543807 | DY7: 1000 | DZ7: 145.43807 | EA7: 0.14543807 | EE7: 26 | EF7: 4.0179 | EG7: 0.15453462 | EH7: 26 | EI7: 4.0179 | EJ7: 0.15453462 | EQ7: 826.541 | ER7: 16.54 | ES7: 0.020011107 | EW7: 826.541 | EX7: 16.54 | EY7: 0.020011107 | FC7: 3892.6955 | FD7: 190.23471 | FE7: 0.048869662 | FI7: 2478.86 | FJ7: 113.56731 | FK7: 0.045814331 | FL7: 1413.8355 | FM7: 76.6674 | FN7: 0.054226534
A8: 5 | B8: 呈贡区 | C8: 7803.26 | D8: 1290.8212 | E8: 0.16542076 | F8: 6512.14 | G8: 1205.1498 | H8: 0.18506202 | I8: 263.01 | J8: 25.323413 | K8: 0.09628308 | L8: 1028.11 | M8: 60.348 | N8: 0.058697999 | O8: 1058.21 | Q8: 0 | R8: 1058.21 | AM8: 2682.91 | AN8: 1208.4692 | AO8: 0.45043226 | AP8: 2446.12 | AQ8: 1183.1458 | AR8: 0.48368265 | AS8: 236.79 | AT8: 25.323413 | AU8: 0.1069446 | AY8: 3537.01 | BA8: #VALUE! | BB8: 2593.41 | BH8: 943.6 | BK8: 112.83 | BL8: 82.352 | BM8: 0.72987681 | BN8: 34.4 | BO8: 22.004 | BP8: 0.63965116 | BQ8: 2.22 | BT8: 76.21 | BU8: 60.348 | BV8: 0.79186458 | CI8: 375 | CK8: #VALUE! | CL8: 375 | EE8: 2 | EG8: #VALUE! | EH8: 2 | EQ8: 24 | ES8: #VALUE! | EW8: 24 | FC8: 11.3 | FE8: #VALUE! | FF8: 3 | FL8: 8.3
